BEGIN:VCALENDAR
VERSION:2.0
PRODID:-//Wensleydale Railway - ECPv6.15.16//NONSGML v1.0//EN
CALSCALE:GREGORIAN
METHOD:PUBLISH
X-ORIGINAL-URL:https://wensleydale-railway.co.uk
X-WR-CALDESC:Events for Wensleydale Railway
REFRESH-INTERVAL;VALUE=DURATION:PT1H
X-Robots-Tag:noindex
X-PUBLISHED-TTL:PT1H
BEGIN:VTIMEZONE
TZID:Europe/London
BEGIN:DAYLIGHT
TZOFFSETFROM:+0000
TZOFFSETTO:+0100
TZNAME:BST
DTSTART:20250330T010000
END:DAYLIGHT
BEGIN:STANDARD
TZOFFSETFROM:+0100
TZOFFSETTO:+0000
TZNAME:GMT
DTSTART:20251026T010000
END:STANDARD
BEGIN:DAYLIGHT
TZOFFSETFROM:+0000
TZOFFSETTO:+0100
TZNAME:BST
DTSTART:20260329T010000
END:DAYLIGHT
BEGIN:STANDARD
TZOFFSETFROM:+0100
TZOFFSETTO:+0000
TZNAME:GMT
DTSTART:20261025T010000
END:STANDARD
BEGIN:DAYLIGHT
TZOFFSETFROM:+0000
TZOFFSETTO:+0100
TZNAME:BST
DTSTART:20270328T010000
END:DAYLIGHT
BEGIN:STANDARD
TZOFFSETFROM:+0100
TZOFFSETTO:+0000
TZNAME:GMT
DTSTART:20271031T010000
END:STANDARD
END:VTIMEZONE
BEGIN:VEVENT
DTSTART;TZID=Europe/London:20260607T143000
DTEND;TZID=Europe/London:20260607T163000
DTSTAMP:20260419T173018
CREATED:20260121T095858Z
LAST-MODIFIED:20260121T095858Z
UID:10000295-1780842600-1780849800@wensleydale-railway.co.uk
SUMMARY:Early Summer Tea Train
DESCRIPTION:Ease yourself into Summer with afternoon tea on a train!
URL:https://wensleydale-railway.co.uk/event/early-summer-tea-train/
LOCATION:Leeming Bar Station\, Leeming Bar Station\, Northallerton\, North Yorkshire\, DL7 9AR\, United Kingdom
CATEGORIES:On Train,Special Event
ATTACH;FMTTYPE=image/png:https://wensleydale-railway.co.uk/wp-content/uploads/2026/01/HOPS-Website-Early-Summer-Tea-Train-2026-600-×-500-px.png
END:VEVENT
BEGIN:VEVENT
DTSTART;TZID=Europe/London:20260613T133000
DTEND;TZID=Europe/London:20260613T153000
DTSTAMP:20260419T173018
CREATED:20260121T101633Z
LAST-MODIFIED:20260121T101633Z
UID:10000311-1781357400-1781364600@wensleydale-railway.co.uk
SUMMARY:Wensleydale Fryer
DESCRIPTION:All aboard the ‘Wensleydale Fryer’ – our lunchtime Fish and Chips dining trains from Leeming Bar to Leyburn!
URL:https://wensleydale-railway.co.uk/event/wensleydale-fryer-11/
LOCATION:Leeming Bar Station\, Leeming Bar Station\, Northallerton\, North Yorkshire\, DL7 9AR\, United Kingdom
CATEGORIES:On Train,Special Event
ATTACH;FMTTYPE=image/png:https://wensleydale-railway.co.uk/wp-content/uploads/2023/03/336616361_949672959528147_7587092917133057572_n.png
END:VEVENT
BEGIN:VEVENT
DTSTART;TZID=Europe/London:20260621T120000
DTEND;TZID=Europe/London:20260621T140000
DTSTAMP:20260419T173018
CREATED:20260121T100040Z
LAST-MODIFIED:20260121T100040Z
UID:10000297-1782043200-1782050400@wensleydale-railway.co.uk
SUMMARY:Ploughmand Lunch Special Train
DESCRIPTION:Make this Father’s Day a truly memorable one with our tasty Yorkshire Ploughman’s lunch
URL:https://wensleydale-railway.co.uk/event/ploughmand-lunch-special-train/
LOCATION:Leeming Bar Station\, Leeming Bar Station\, Northallerton\, North Yorkshire\, DL7 9AR\, United Kingdom
CATEGORIES:On Train,Special Event
ATTACH;FMTTYPE=image/png:https://wensleydale-railway.co.uk/wp-content/uploads/2026/01/HOPS-Website-Fathers-Day-2025.png
END:VEVENT
BEGIN:VEVENT
DTSTART;TZID=Europe/London:20260627T122000
DTEND;TZID=Europe/London:20260627T143000
DTSTAMP:20260419T173019
CREATED:20260121T103707Z
LAST-MODIFIED:20260121T103707Z
UID:10000323-1782562800-1782570600@wensleydale-railway.co.uk
SUMMARY:The Gin Train Experience
DESCRIPTION:All aboard The Gin Train Experience! We are pleased to announce that we will once again be hosting the Taplin & Mageean Gin Train.
URL:https://wensleydale-railway.co.uk/event/the-gin-train-experience-3/
LOCATION:Leyburn Station\, Leyburn Station\, Harmby Road\, Leyburn\, Leyburn\, North Yorkshire\, DL8 5ET\, United Kingdom
CATEGORIES:On Train,Special Event
ATTACH;FMTTYPE=image/png:https://wensleydale-railway.co.uk/wp-content/uploads/2020/01/event_blurb-1.png
END:VEVENT
END:VCALENDAR