BEGIN:VCALENDAR
VERSION:2.0
PRODID:-//Wensleydale Railway - ECPv6.15.16//NONSGML v1.0//EN
CALSCALE:GREGORIAN
METHOD:PUBLISH
X-WR-CALNAME:Wensleydale Railway
X-ORIGINAL-URL:https://wensleydale-railway.co.uk
X-WR-CALDESC:Events for Wensleydale Railway
REFRESH-INTERVAL;VALUE=DURATION:PT1H
X-Robots-Tag:noindex
X-PUBLISHED-TTL:PT1H
BEGIN:VTIMEZONE
TZID:Europe/London
BEGIN:DAYLIGHT
TZOFFSETFROM:+0000
TZOFFSETTO:+0100
TZNAME:BST
DTSTART:20250330T010000
END:DAYLIGHT
BEGIN:STANDARD
TZOFFSETFROM:+0100
TZOFFSETTO:+0000
TZNAME:GMT
DTSTART:20251026T010000
END:STANDARD
BEGIN:DAYLIGHT
TZOFFSETFROM:+0000
TZOFFSETTO:+0100
TZNAME:BST
DTSTART:20260329T010000
END:DAYLIGHT
BEGIN:STANDARD
TZOFFSETFROM:+0100
TZOFFSETTO:+0000
TZNAME:GMT
DTSTART:20261025T010000
END:STANDARD
BEGIN:DAYLIGHT
TZOFFSETFROM:+0000
TZOFFSETTO:+0100
TZNAME:BST
DTSTART:20270328T010000
END:DAYLIGHT
BEGIN:STANDARD
TZOFFSETFROM:+0100
TZOFFSETTO:+0000
TZNAME:GMT
DTSTART:20271031T010000
END:STANDARD
END:VTIMEZONE
BEGIN:VEVENT
DTSTART;TZID=Europe/London:20260808T133000
DTEND;TZID=Europe/London:20260808T153000
DTSTAMP:20260419T231002
CREATED:20260121T101917Z
LAST-MODIFIED:20260121T101917Z
UID:10000315-1786195800-1786203000@wensleydale-railway.co.uk
SUMMARY:Wensleydale Fryer
DESCRIPTION:All aboard the ‘Wensleydale Fryer’ – our lunchtime Fish and Chips dining trains from Leeming Bar to Leyburn!
URL:https://wensleydale-railway.co.uk/event/wensleydale-fryer-13/
LOCATION:Leeming Bar Station\, Leeming Bar Station\, Northallerton\, North Yorkshire\, DL7 9AR\, United Kingdom
CATEGORIES:On Train,Special Event
ATTACH;FMTTYPE=image/png:https://wensleydale-railway.co.uk/wp-content/uploads/2023/03/336616361_949672959528147_7587092917133057572_n.png
END:VEVENT
END:VCALENDAR