BEGIN:VCALENDAR
VERSION:2.0
PRODID:-//Wensleydale Railway - ECPv6.15.16//NONSGML v1.0//EN
CALSCALE:GREGORIAN
METHOD:PUBLISH
X-WR-CALNAME:Wensleydale Railway
X-ORIGINAL-URL:https://wensleydale-railway.co.uk
X-WR-CALDESC:Events for Wensleydale Railway
REFRESH-INTERVAL;VALUE=DURATION:PT1H
X-Robots-Tag:noindex
X-PUBLISHED-TTL:PT1H
BEGIN:VTIMEZONE
TZID:Europe/London
BEGIN:DAYLIGHT
TZOFFSETFROM:+0000
TZOFFSETTO:+0100
TZNAME:BST
DTSTART:20240331T010000
END:DAYLIGHT
BEGIN:STANDARD
TZOFFSETFROM:+0100
TZOFFSETTO:+0000
TZNAME:GMT
DTSTART:20241027T010000
END:STANDARD
BEGIN:DAYLIGHT
TZOFFSETFROM:+0000
TZOFFSETTO:+0100
TZNAME:BST
DTSTART:20250330T010000
END:DAYLIGHT
BEGIN:STANDARD
TZOFFSETFROM:+0100
TZOFFSETTO:+0000
TZNAME:GMT
DTSTART:20251026T010000
END:STANDARD
BEGIN:DAYLIGHT
TZOFFSETFROM:+0000
TZOFFSETTO:+0100
TZNAME:BST
DTSTART:20260329T010000
END:DAYLIGHT
BEGIN:STANDARD
TZOFFSETFROM:+0100
TZOFFSETTO:+0000
TZNAME:GMT
DTSTART:20261025T010000
END:STANDARD
BEGIN:DAYLIGHT
TZOFFSETFROM:+0000
TZOFFSETTO:+0100
TZNAME:BST
DTSTART:20270328T010000
END:DAYLIGHT
BEGIN:STANDARD
TZOFFSETFROM:+0100
TZOFFSETTO:+0000
TZNAME:GMT
DTSTART:20271031T010000
END:STANDARD
END:VTIMEZONE
BEGIN:VEVENT
DTSTART;TZID=Europe/London:20250712T123000
DTEND;TZID=Europe/London:20250712T143000
DTSTAMP:20260423T191035
CREATED:20240510T101912Z
LAST-MODIFIED:20250113T112219Z
UID:10000213-1752323400-1752330600@wensleydale-railway.co.uk
SUMMARY:Wensleydale fryer
DESCRIPTION:All aboard the ‘Wensleydale Fryer’ – our Saturday lunchtime Fish and Chips dining trains from Leeming Bar to Leyburn!
URL:https://wensleydale-railway.co.uk/event/wensleydale-fryer-6/
LOCATION:Leeming Bar Station\, Leeming Bar Station\, Northallerton\, North Yorkshire\, DL7 9AR\, United Kingdom
CATEGORIES:On Train,Special Event
ATTACH;FMTTYPE=image/png:https://wensleydale-railway.co.uk/wp-content/uploads/2024/03/fryer.png
END:VEVENT
BEGIN:VEVENT
DTSTART;TZID=Europe/London:20250806T103000
DTEND;TZID=Europe/London:20250806T133000
DTSTAMP:20260423T191035
CREATED:20250720T125626Z
LAST-MODIFIED:20250720T125626Z
UID:10000277-1754476200-1754487000@wensleydale-railway.co.uk
SUMMARY:Engines Up Close
DESCRIPTION:Get hands-on and up close at Leeming Bar\, perfect for curious minds of all ages! This special engineering themed day takes you behind the scenes of our working yard with guided tours of the shed and our steam loco repairs
URL:https://wensleydale-railway.co.uk/event/engines-up-close/
LOCATION:Leeming Bar Station\, Leeming Bar Station\, Northallerton\, North Yorkshire\, DL7 9AR\, United Kingdom
CATEGORIES:Off Train
ATTACH;FMTTYPE=image/jpeg:https://wensleydale-railway.co.uk/wp-content/uploads/2025/07/heritrage-summer-thumbnail.jpg
END:VEVENT
BEGIN:VEVENT
DTSTART;TZID=Europe/London:20250809T123000
DTEND;TZID=Europe/London:20250809T143000
DTSTAMP:20260423T191035
CREATED:20240510T101846Z
LAST-MODIFIED:20250113T112306Z
UID:10000211-1754742600-1754749800@wensleydale-railway.co.uk
SUMMARY:Wensleydale fryer
DESCRIPTION:All aboard the ‘Wensleydale Fryer’ – our Saturday lunchtime Fish and Chips dining trains from Leeming Bar to Leyburn!
URL:https://wensleydale-railway.co.uk/event/wensleydale-fryer-5/
LOCATION:Leeming Bar Station\, Leeming Bar Station\, Northallerton\, North Yorkshire\, DL7 9AR\, United Kingdom
CATEGORIES:On Train,Special Event
ATTACH;FMTTYPE=image/png:https://wensleydale-railway.co.uk/wp-content/uploads/2024/03/fryer.png
END:VEVENT
BEGIN:VEVENT
DTSTART;TZID=Europe/London:20250813T093000
DTEND;TZID=Europe/London:20250813T170000
DTSTAMP:20260423T191035
CREATED:20250720T125842Z
LAST-MODIFIED:20250720T125842Z
UID:10000279-1755077400-1755104400@wensleydale-railway.co.uk
SUMMARY:Railway Detectives
DESCRIPTION:Put your sleuthing skills to the test! Grab your activity sheet and travel between Leeming Bar\, Leyburn\, and Scruton to uncover clues and deliver a mystery parcel to its final destination.
URL:https://wensleydale-railway.co.uk/event/railway-detectives/
LOCATION:North Yorkshire
CATEGORIES:On Train
ATTACH;FMTTYPE=image/jpeg:https://wensleydale-railway.co.uk/wp-content/uploads/2025/07/heritrage-summer-thumbnail.jpg
END:VEVENT
BEGIN:VEVENT
DTSTART;TZID=Europe/London:20250820T093000
DTEND;TZID=Europe/London:20250820T170000
DTSTAMP:20260423T191035
CREATED:20250720T130026Z
LAST-MODIFIED:20250720T130026Z
UID:10000281-1755682200-1755709200@wensleydale-railway.co.uk
SUMMARY:1920's Wash Day
DESCRIPTION:Step back in time and experience laundry the 1920s way! Join us at Leeming Bar Station House for a washing drop in where you’ll grate the soap\, beat the carpets and see a vintage mangle in action! Ideal for both inquisitive kids and nostalgic grown-ups alike
URL:https://wensleydale-railway.co.uk/event/1920s-wash-day/
LOCATION:North Yorkshire
CATEGORIES:Off Train
ATTACH;FMTTYPE=image/jpeg:https://wensleydale-railway.co.uk/wp-content/uploads/2025/07/heritrage-summer-thumbnail.jpg
END:VEVENT
BEGIN:VEVENT
DTSTART;TZID=Europe/London:20250913T123000
DTEND;TZID=Europe/London:20250913T143000
DTSTAMP:20260423T191035
CREATED:20240405T103328Z
LAST-MODIFIED:20250113T112346Z
UID:10000205-1757766600-1757773800@wensleydale-railway.co.uk
SUMMARY:Wensleydale fryer
DESCRIPTION:All aboard the ‘Wensleydale Fryer’ – our Saturday lunchtime Fish and Chips dining trains from Leeming Bar to Leyburn!
URL:https://wensleydale-railway.co.uk/event/wensleydale-fryer-2/
LOCATION:Leeming Bar Station\, Leeming Bar Station\, Northallerton\, North Yorkshire\, DL7 9AR\, United Kingdom
CATEGORIES:On Train,Special Event
ATTACH;FMTTYPE=image/png:https://wensleydale-railway.co.uk/wp-content/uploads/2024/03/fryer.png
END:VEVENT
BEGIN:VEVENT
DTSTART;TZID=Europe/London:20251011T123000
DTEND;TZID=Europe/London:20251011T143000
DTSTAMP:20260423T191035
CREATED:20240510T101721Z
LAST-MODIFIED:20250113T112443Z
UID:10000209-1760185800-1760193000@wensleydale-railway.co.uk
SUMMARY:Wensleydale fryer
DESCRIPTION:All aboard the ‘Wensleydale Fryer’ – our Saturday lunchtime Fish and Chips dining trains from Leeming Bar to Leyburn!
URL:https://wensleydale-railway.co.uk/event/wensleydale-fryer-3/
LOCATION:Leeming Bar Station\, Leeming Bar Station\, Northallerton\, North Yorkshire\, DL7 9AR\, United Kingdom
CATEGORIES:On Train,Special Event
ATTACH;FMTTYPE=image/png:https://wensleydale-railway.co.uk/wp-content/uploads/2024/03/fryer.png
END:VEVENT
BEGIN:VEVENT
DTSTART;TZID=Europe/London:20260215T120000
DTEND;TZID=Europe/London:20260215T143000
DTSTAMP:20260423T191035
CREATED:20260121T092713Z
LAST-MODIFIED:20260121T093155Z
UID:10000283-1771156800-1771165800@wensleydale-railway.co.uk
SUMMARY:Valentines Lunch Train
DESCRIPTION:Make this Valentine’s Day a truly memorable one with our delicious lunchtime sharing platter.
URL:https://wensleydale-railway.co.uk/event/valentines-lunch-train/
LOCATION:Leeming Bar Station\, Leeming Bar Station\, Northallerton\, North Yorkshire\, DL7 9AR\, United Kingdom
CATEGORIES:On Train,Special Event
ATTACH;FMTTYPE=image/png:https://wensleydale-railway.co.uk/wp-content/uploads/2024/01/HOPS-Website-Valentines-Day-2024-thumbnails-600-×-500-px.png
END:VEVENT
BEGIN:VEVENT
DTSTART;VALUE=DATE:20260218
DTEND;VALUE=DATE:20260219
DTSTAMP:20260423T191035
CREATED:20260121T093042Z
LAST-MODIFIED:20260121T093124Z
UID:10000285-1771372800-1771459199@wensleydale-railway.co.uk
SUMMARY:Engines Up Close
DESCRIPTION:Join us on Wednesday 18th February for a special engineering themed day
URL:https://wensleydale-railway.co.uk/event/engines-up-close-2/
LOCATION:Leeming Bar Station\, Leeming Bar Station\, Northallerton\, North Yorkshire\, DL7 9AR\, United Kingdom
CATEGORIES:Off Train
ATTACH;FMTTYPE=image/jpeg:https://wensleydale-railway.co.uk/wp-content/uploads/2026/01/ENGINES-UP-CLOSE-600-x-500-px.jpg
END:VEVENT
BEGIN:VEVENT
DTSTART;TZID=Europe/London:20260315T143000
DTEND;TZID=Europe/London:20260315T163000
DTSTAMP:20260423T191035
CREATED:20260121T093602Z
LAST-MODIFIED:20260121T093614Z
UID:10000287-1773585000-1773592200@wensleydale-railway.co.uk
SUMMARY:Mother's Day Tea Train
DESCRIPTION:Your Mum deserves something different this Mother’s Day. Treat her to afternoon tea on a train!
URL:https://wensleydale-railway.co.uk/event/mothers-day-tea-train-2/
LOCATION:North Yorkshire
CATEGORIES:On Train,Special Event
ATTACH;FMTTYPE=image/png:https://wensleydale-railway.co.uk/wp-content/uploads/2024/01/HOPS-Website-Mothers-Day-2024-600-×-500-px.png
END:VEVENT
BEGIN:VEVENT
DTSTART;TZID=Europe/London:20260328T133000
DTEND;TZID=Europe/London:20260328T153000
DTSTAMP:20260423T191035
CREATED:20260121T100845Z
LAST-MODIFIED:20260121T100920Z
UID:10000305-1774704600-1774711800@wensleydale-railway.co.uk
SUMMARY:Wensleydale Fryer
DESCRIPTION:All aboard the ‘Wensleydale Fryer’ – our lunchtime Fish and Chips dining trains from Leeming Bar to Leyburn!
URL:https://wensleydale-railway.co.uk/event/wensleydale-fryer/
LOCATION:Leeming Bar Station\, Leeming Bar Station\, Northallerton\, North Yorkshire\, DL7 9AR\, United Kingdom
CATEGORIES:On Train,Special Event
ATTACH;FMTTYPE=image/png:https://wensleydale-railway.co.uk/wp-content/uploads/2023/03/334944424_940201900757271_6871405786961976930_n.png
END:VEVENT
BEGIN:VEVENT
DTSTART;TZID=Europe/London:20260401T083000
DTEND;TZID=Europe/London:20260401T170000
DTSTAMP:20260423T191035
CREATED:20260318T091618Z
LAST-MODIFIED:20260318T091618Z
UID:10000333-1775032200-1775062800@wensleydale-railway.co.uk
SUMMARY:Easter Events
DESCRIPTION:Join us at the Wensleydale Railway this Easter for free activities across the Dale!
URL:https://wensleydale-railway.co.uk/event/easter-events/2026-04-01/
LOCATION:North Yorkshire
CATEGORIES:Off Train
ATTACH;FMTTYPE=image/jpeg:https://wensleydale-railway.co.uk/wp-content/uploads/2026/03/easter-thumbnail.jpg
END:VEVENT
BEGIN:VEVENT
DTSTART;TZID=Europe/London:20260401T093000
DTEND;TZID=Europe/London:20260401T170000
DTSTAMP:20260423T191035
CREATED:20260318T092915Z
LAST-MODIFIED:20260318T092915Z
UID:10000351-1775035800-1775062800@wensleydale-railway.co.uk
SUMMARY:Easter Events
DESCRIPTION:Join us at the Wensleydale Railway this Easter for free activities across the Dale!
URL:https://wensleydale-railway.co.uk/event/easter-events-2/
LOCATION:North Yorkshire
CATEGORIES:Off Train
ATTACH;FMTTYPE=image/jpeg:https://wensleydale-railway.co.uk/wp-content/uploads/2026/03/easter-thumbnail.jpg
END:VEVENT
BEGIN:VEVENT
DTSTART;TZID=Europe/London:20260401T110000
DTEND;TZID=Europe/London:20260401T140000
DTSTAMP:20260423T191035
CREATED:20260318T091813Z
LAST-MODIFIED:20260318T091813Z
UID:10000345-1775041200-1775052000@wensleydale-railway.co.uk
SUMMARY:Easter Crafts at Scruton
DESCRIPTION:Come along to Scruton Station for Easter crafts
URL:https://wensleydale-railway.co.uk/event/easter-crafts-at-scruton/2026-04-01/
LOCATION:Scruton Station
CATEGORIES:Off Train
ATTACH;FMTTYPE=image/jpeg:https://wensleydale-railway.co.uk/wp-content/uploads/2026/03/easter-thumbnail.jpg
END:VEVENT
BEGIN:VEVENT
DTSTART;TZID=Europe/London:20260401T110000
DTEND;TZID=Europe/London:20260401T140000
DTSTAMP:20260423T191035
CREATED:20260318T092748Z
LAST-MODIFIED:20260318T092748Z
UID:10000349-1775041200-1775052000@wensleydale-railway.co.uk
SUMMARY:Easter Crafts at Scruton
DESCRIPTION:Come along to Scruton Station for Easter crafts
URL:https://wensleydale-railway.co.uk/event/easter-crafts-at-scruton-2/
LOCATION:Scruton Station
CATEGORIES:Off Train
ATTACH;FMTTYPE=image/jpeg:https://wensleydale-railway.co.uk/wp-content/uploads/2026/03/easter-thumbnail.jpg
END:VEVENT
BEGIN:VEVENT
DTSTART;TZID=Europe/London:20260403T093000
DTEND;TZID=Europe/London:20260403T170000
DTSTAMP:20260423T191035
CREATED:20260318T091618Z
LAST-MODIFIED:20260318T091618Z
UID:10000335-1775208600-1775235600@wensleydale-railway.co.uk
SUMMARY:Easter Events
DESCRIPTION:Join us at the Wensleydale Railway this Easter for free activities across the Dale!
URL:https://wensleydale-railway.co.uk/event/easter-events/2026-04-03/
LOCATION:North Yorkshire
CATEGORIES:Off Train
ATTACH;FMTTYPE=image/jpeg:https://wensleydale-railway.co.uk/wp-content/uploads/2026/03/easter-thumbnail.jpg
END:VEVENT
BEGIN:VEVENT
DTSTART;TZID=Europe/London:20260404T093000
DTEND;TZID=Europe/London:20260404T170000
DTSTAMP:20260423T191035
CREATED:20260318T091618Z
LAST-MODIFIED:20260318T091618Z
UID:10000337-1775295000-1775322000@wensleydale-railway.co.uk
SUMMARY:Easter Events
DESCRIPTION:Join us at the Wensleydale Railway this Easter for free activities across the Dale!
URL:https://wensleydale-railway.co.uk/event/easter-events/2026-04-04/
LOCATION:North Yorkshire
CATEGORIES:Off Train
ATTACH;FMTTYPE=image/jpeg:https://wensleydale-railway.co.uk/wp-content/uploads/2026/03/easter-thumbnail.jpg
END:VEVENT
BEGIN:VEVENT
DTSTART;TZID=Europe/London:20260405T093000
DTEND;TZID=Europe/London:20260405T170000
DTSTAMP:20260423T191035
CREATED:20260318T091618Z
LAST-MODIFIED:20260318T091618Z
UID:10000339-1775381400-1775408400@wensleydale-railway.co.uk
SUMMARY:Easter Events
DESCRIPTION:Join us at the Wensleydale Railway this Easter for free activities across the Dale!
URL:https://wensleydale-railway.co.uk/event/easter-events/2026-04-05/
LOCATION:North Yorkshire
CATEGORIES:Off Train
ATTACH;FMTTYPE=image/jpeg:https://wensleydale-railway.co.uk/wp-content/uploads/2026/03/easter-thumbnail.jpg
END:VEVENT
BEGIN:VEVENT
DTSTART;TZID=Europe/London:20260405T143000
DTEND;TZID=Europe/London:20260405T163000
DTSTAMP:20260423T191035
CREATED:20260121T095450Z
LAST-MODIFIED:20260121T095553Z
UID:10000291-1775399400-1775406600@wensleydale-railway.co.uk
SUMMARY:Easter Tea Train
DESCRIPTION:Make your Easter ‘eggstra’ special onboard our Easter Sunday afternoon tea train!
URL:https://wensleydale-railway.co.uk/event/easter-tea-train-2/
LOCATION:Leeming Bar Station\, Leeming Bar Station\, Northallerton\, North Yorkshire\, DL7 9AR\, United Kingdom
CATEGORIES:On Train,Special Event
ATTACH;FMTTYPE=image/png:https://wensleydale-railway.co.uk/wp-content/uploads/2024/01/HOPS-Website-Easter-Train-2024-600-×-500-px.png
END:VEVENT
BEGIN:VEVENT
DTSTART;TZID=Europe/London:20260406T093000
DTEND;TZID=Europe/London:20260406T170000
DTSTAMP:20260423T191035
CREATED:20260318T091618Z
LAST-MODIFIED:20260318T091618Z
UID:10000341-1775467800-1775494800@wensleydale-railway.co.uk
SUMMARY:Easter Events
DESCRIPTION:Join us at the Wensleydale Railway this Easter for free activities across the Dale!
URL:https://wensleydale-railway.co.uk/event/easter-events/2026-04-06/
LOCATION:North Yorkshire
CATEGORIES:Off Train
ATTACH;FMTTYPE=image/jpeg:https://wensleydale-railway.co.uk/wp-content/uploads/2026/03/easter-thumbnail.jpg
END:VEVENT
BEGIN:VEVENT
DTSTART;TZID=Europe/London:20260408T093000
DTEND;TZID=Europe/London:20260408T170000
DTSTAMP:20260423T191035
CREATED:20260318T091618Z
LAST-MODIFIED:20260318T091618Z
UID:10000343-1775640600-1775667600@wensleydale-railway.co.uk
SUMMARY:Easter Events
DESCRIPTION:Join us at the Wensleydale Railway this Easter for free activities across the Dale!
URL:https://wensleydale-railway.co.uk/event/easter-events/2026-04-08/
LOCATION:North Yorkshire
CATEGORIES:Off Train
ATTACH;FMTTYPE=image/jpeg:https://wensleydale-railway.co.uk/wp-content/uploads/2026/03/easter-thumbnail.jpg
END:VEVENT
BEGIN:VEVENT
DTSTART;TZID=Europe/London:20260408T110000
DTEND;TZID=Europe/London:20260408T140000
DTSTAMP:20260423T191035
CREATED:20260318T091813Z
LAST-MODIFIED:20260318T091813Z
UID:10000347-1775646000-1775656800@wensleydale-railway.co.uk
SUMMARY:Easter Crafts at Scruton
DESCRIPTION:Come along to Scruton Station for Easter crafts
URL:https://wensleydale-railway.co.uk/event/easter-crafts-at-scruton/2026-04-08/
LOCATION:Scruton Station
CATEGORIES:Off Train
ATTACH;FMTTYPE=image/jpeg:https://wensleydale-railway.co.uk/wp-content/uploads/2026/03/easter-thumbnail.jpg
END:VEVENT
BEGIN:VEVENT
DTSTART;TZID=Europe/London:20260411T133000
DTEND;TZID=Europe/London:20260411T153000
DTSTAMP:20260423T191035
CREATED:20260121T101320Z
LAST-MODIFIED:20260121T101320Z
UID:10000307-1775914200-1775921400@wensleydale-railway.co.uk
SUMMARY:Wensleydale Fryer
DESCRIPTION:All aboard the ‘Wensleydale Fryer’ – our lunchtime Fish and Chips dining trains from Leeming Bar to Leyburn!
URL:https://wensleydale-railway.co.uk/event/wensleydale-fryer-4/
LOCATION:Leeming Bar Station\, Leeming Bar Station\, Northallerton\, North Yorkshire\, DL7 9AR\, United Kingdom
CATEGORIES:On Train,Special Event
ATTACH;FMTTYPE=image/png:https://wensleydale-railway.co.uk/wp-content/uploads/2023/03/336616361_949672959528147_7587092917133057572_n.png
END:VEVENT
BEGIN:VEVENT
DTSTART;TZID=Europe/London:20260419T143000
DTEND;TZID=Europe/London:20260419T163000
DTSTAMP:20260423T191035
CREATED:20260121T095321Z
LAST-MODIFIED:20260121T095321Z
UID:10000289-1776609000-1776616200@wensleydale-railway.co.uk
SUMMARY:Spring Tea Train
DESCRIPTION:Experience a ‘blooming’ marvellous time onboard our Spring afternoon tea train!
URL:https://wensleydale-railway.co.uk/event/spring-tea-train/
LOCATION:Leeming Bar Station\, Leeming Bar Station\, Northallerton\, North Yorkshire\, DL7 9AR\, United Kingdom
CATEGORIES:On Train,Special Event
ATTACH;FMTTYPE=image/png:https://wensleydale-railway.co.uk/wp-content/uploads/2025/01/HOPS-Website-Spring-Tea-Train-2025-600-×-500-px.png
END:VEVENT
BEGIN:VEVENT
DTSTART;TZID=Europe/London:20260425T122000
DTEND;TZID=Europe/London:20260425T143000
DTSTAMP:20260423T191035
CREATED:20260121T103046Z
LAST-MODIFIED:20260121T103533Z
UID:10000319-1777119600-1777127400@wensleydale-railway.co.uk
SUMMARY:The Gin Train Experience
DESCRIPTION:All aboard The Gin Train Experience! We are pleased to announce that we will once again be hosting the Taplin & Mageean Gin Train.
URL:https://wensleydale-railway.co.uk/event/the-gin-train-experience/
LOCATION:Leyburn Station\, Leyburn Station\, Harmby Road\, Leyburn\, Leyburn\, North Yorkshire\, DL8 5ET\, United Kingdom
CATEGORIES:On Train,Special Event
ATTACH;FMTTYPE=image/png:https://wensleydale-railway.co.uk/wp-content/uploads/2020/01/event_blurb-1.png
END:VEVENT
BEGIN:VEVENT
DTSTART;TZID=Europe/London:20260503T143000
DTEND;TZID=Europe/London:20260503T163000
DTSTAMP:20260423T191035
CREATED:20260121T095717Z
LAST-MODIFIED:20260121T095717Z
UID:10000293-1777818600-1777825800@wensleydale-railway.co.uk
SUMMARY:Indian Inspired Tea Train
DESCRIPTION:Join us for an Indian-inspired afternoon tea this May!
URL:https://wensleydale-railway.co.uk/event/indian-inspired-tea-train/
LOCATION:Leeming Bar Station\, Leeming Bar Station\, Northallerton\, North Yorkshire\, DL7 9AR\, United Kingdom
CATEGORIES:On Train,Special Event
ATTACH;FMTTYPE=image/png:https://wensleydale-railway.co.uk/wp-content/uploads/2025/08/HOPS-Website-Curry-Train-2025-600-×-500-px.png
END:VEVENT
BEGIN:VEVENT
DTSTART;TZID=Europe/London:20260516T133000
DTEND;TZID=Europe/London:20260516T153000
DTSTAMP:20260423T191035
CREATED:20260121T101457Z
LAST-MODIFIED:20260121T101457Z
UID:10000309-1778938200-1778945400@wensleydale-railway.co.uk
SUMMARY:Wensleydale Fryer
DESCRIPTION:All aboard the ‘Wensleydale Fryer’ – our lunchtime Fish and Chips dining trains from Leeming Bar to Leyburn!
URL:https://wensleydale-railway.co.uk/event/wensleydale-fryer-10/
LOCATION:Leeming Bar Station\, Leeming Bar Station\, Northallerton\, North Yorkshire\, DL7 9AR\, United Kingdom
CATEGORIES:On Train,Special Event
ATTACH;FMTTYPE=image/png:https://wensleydale-railway.co.uk/wp-content/uploads/2023/03/336616361_949672959528147_7587092917133057572_n.png
END:VEVENT
BEGIN:VEVENT
DTSTART;TZID=Europe/London:20260607T143000
DTEND;TZID=Europe/London:20260607T163000
DTSTAMP:20260423T191035
CREATED:20260121T095858Z
LAST-MODIFIED:20260121T095858Z
UID:10000295-1780842600-1780849800@wensleydale-railway.co.uk
SUMMARY:Early Summer Tea Train
DESCRIPTION:Ease yourself into Summer with afternoon tea on a train!
URL:https://wensleydale-railway.co.uk/event/early-summer-tea-train/
LOCATION:Leeming Bar Station\, Leeming Bar Station\, Northallerton\, North Yorkshire\, DL7 9AR\, United Kingdom
CATEGORIES:On Train,Special Event
ATTACH;FMTTYPE=image/png:https://wensleydale-railway.co.uk/wp-content/uploads/2026/01/HOPS-Website-Early-Summer-Tea-Train-2026-600-×-500-px.png
END:VEVENT
BEGIN:VEVENT
DTSTART;TZID=Europe/London:20260613T133000
DTEND;TZID=Europe/London:20260613T153000
DTSTAMP:20260423T191035
CREATED:20260121T101633Z
LAST-MODIFIED:20260121T101633Z
UID:10000311-1781357400-1781364600@wensleydale-railway.co.uk
SUMMARY:Wensleydale Fryer
DESCRIPTION:All aboard the ‘Wensleydale Fryer’ – our lunchtime Fish and Chips dining trains from Leeming Bar to Leyburn!
URL:https://wensleydale-railway.co.uk/event/wensleydale-fryer-11/
LOCATION:Leeming Bar Station\, Leeming Bar Station\, Northallerton\, North Yorkshire\, DL7 9AR\, United Kingdom
CATEGORIES:On Train,Special Event
ATTACH;FMTTYPE=image/png:https://wensleydale-railway.co.uk/wp-content/uploads/2023/03/336616361_949672959528147_7587092917133057572_n.png
END:VEVENT
BEGIN:VEVENT
DTSTART;TZID=Europe/London:20260621T120000
DTEND;TZID=Europe/London:20260621T140000
DTSTAMP:20260423T191035
CREATED:20260121T100040Z
LAST-MODIFIED:20260121T100040Z
UID:10000297-1782043200-1782050400@wensleydale-railway.co.uk
SUMMARY:Ploughmand Lunch Special Train
DESCRIPTION:Make this Father’s Day a truly memorable one with our tasty Yorkshire Ploughman’s lunch
URL:https://wensleydale-railway.co.uk/event/ploughmand-lunch-special-train/
LOCATION:Leeming Bar Station\, Leeming Bar Station\, Northallerton\, North Yorkshire\, DL7 9AR\, United Kingdom
CATEGORIES:On Train,Special Event
ATTACH;FMTTYPE=image/png:https://wensleydale-railway.co.uk/wp-content/uploads/2026/01/HOPS-Website-Fathers-Day-2025.png
END:VEVENT
END:VCALENDAR